BEGIN:VCALENDAR
VERSION:2.0
PRODID:-//Extinction Rebellion Boston//Action//
BEGIN:VEVENT
SUMMARY:[Solidarity] Chase is funding the sixth mass extinction
DTSTART:20221015T170000Z
DTEND:20221015T190000Z
DTSTAMP:20260420T083555Z
UID:1325@https://xrboston.org
CREATED:20260420T083555Z
DESCRIPTION:Event details: https://xrboston.org/action/chase-is-funding-th
 e-sixth-mass-extinction/\n\nClimate Courage\, the direct action wing of 35
 0 Mass\, invites you to join a protest!\n\nChase is the #1 Worst Bank in t
 he World for funding the fossil fuel industry\, and hence the climate cris
 is. We're part of a national campaign letting Chase know– THIS IS NOT OK
 !\n\n**When:**  Saturday\, October 15\, 2022 at 1 PM\n\n**Where:**  Downto
 wn Crossing\, Boston\, outside the Chase branch office\n\n**What:** A Sixt
 h Mass Extinction theme! Come in costume as an animal (or a human.) We'll 
 run around\, talk to passersby\, hand out leaflets\, and then have a die-i
 n.  (Not risking arrest.) \n\n–Or just come–we'll have extra costumes 
 if you want one.\n\n**Please [RSVP](https://docs.google.com/forms/d/e/1FAI
 pQLSepzlAZGOV7qms3lnT10b8SEnt4UitMUg-YJnM_6mvfjGUExQ/viewform) ** or at cl
 imatecourage@gmail.com–we'd like to know who is coming\, and what you'd 
 like to do.  And we can keep you updated.\n\nQuestions?  climatecourage@gm
 ail.com
LAST-MODIFIED:20221010T173358Z
LOCATION:Chase Bank\, Downtown Crossing\, Boston\, MA
ORGANIZER;CN="Extinction Rebellion Boston":MAILTO:outreach@xrboston.org
URL:https://xrboston.org/action/chase-is-funding-the-sixth-mass-extinction
 /
END:VEVENT
END:VCALENDAR
