BEGIN:VCALENDAR
VERSION:2.0
PRODID:-//Extinction Rebellion Boston//Action//
BEGIN:VEVENT
SUMMARY:CHASE the Heat Away
DTSTART:20250823T140000Z
DTEND:20250823T160000Z
DTSTAMP:20260422T002508Z
UID:2131@https://xrboston.org
CREATED:20260422T002508Z
DESCRIPTION:Event details: https://xrboston.org/action/chase-the-heat-away
 /\n\nWe've all felt the heat this summer\, now let's put the heat on Chase
  Bank for their role in creating consecutive record- breaking summers! We'
 re -hot under the collar- because Chase was the number one funder of fossi
 l fuel infrastructure in 2024. $200 billion over the last four years!!\n\n
 Join us for a festive lemonade standout and tabling event in front of the 
 newly- opened Chase Bank. Wear fun summer clothes and bring some chairs\; 
 let's get the word out to our neighbors about Chase and its [obscene fossi
 l fuel investments](https://www.bankingonclimatechaos.org/?bank=JPMorgan%2
 0Chase#fulldata-panel) all while enjoying lemonade and summer tunes!\n\nWe
 'll share information with passersby for about two hours about local and v
 etted alternatives to banking with Chase Bank and other "dirty" banks\, as
  well as recruiting material to invite new members to Extinction Rebellion
  Boston!
LAST-MODIFIED:20250730T155146Z
LOCATION:433 Washington St Brighton\, MA
ORGANIZER;CN="Extinction Rebellion Boston":MAILTO:outreach@xrboston.org
URL:https://xrboston.org/action/chase-the-heat-away/
END:VEVENT
END:VCALENDAR
