BEGIN:VCALENDAR
VERSION:2.0
PRODID:-//Extinction Rebellion Boston//Action//
BEGIN:VEVENT
SUMMARY:A Circle of Grief and Gratitude on the Winter Solstice
DTSTART:20211222T000000Z
DTEND:20211222T020000Z
DTSTAMP:20260421T100414Z
UID:1013@https://xrboston.org
CREATED:20260421T100414Z
DESCRIPTION:Join online: <a href="https://us06web.zoom.us/meeting/register
 /tZYuc-uppzMuHNWmVkJy6TJHQhVryyG7xRbF">https://us06web.zoom.us/meeting/reg
 ister/tZYuc-uppzMuHNWmVkJy6TJHQhVryyG7xRbF</a>\n\nEvent details: <a href="
 https://xrboston.org/action/circle-of-grief-and-gratitude-on-the-winter-so
 l/">https://xrboston.org/action/circle-of-grief-and-gratitude-on-the-winte
 r-sol/</a>\n\nAt the winter Solstice\, we stand at a threshold: it is the 
 longest night of the year\, and marks the astronomical beginning of Winter
 . At the same time\, it is from this day forward that the days lengthen an
 d light begins its slow return.\n\nJoin fellow XR rebels in a circle of gr
 ief and gratitude\, as we engage in the dance of darkness and light. We sh
 are our grief\, because the work we do for all beings is a labor of love\,
  and in love our hearts are broken open. We share our gratitude\, because 
 our hearts are filled by the earth we call home\, and the work we share fo
 r the sake of all.\n\n**[RSVP HERE](https://us06web.zoom.us/meeting/regist
 er/tZYuc-uppzMuHNWmVkJy6TJHQhVryyG7xRbF)**\n\n*Though this event is on Zoo
 m\, we encourage participants to have a candle at the ready! *\n\n-::~:~::
 ~:~:~:~:~:~:~:~:~:~:~:~:~:~:~:~:~:~:~:~:~:~:~:~:~:~:~:~:~:~:~:~:~:~:~:~::~
 :~::-\nDo not edit this section of the description.\n\nThis event has a vi
 deo call.\nJoin: https://us06web.zoom.us/meeting/register/tZYuc-uppzMuHNWm
 VkJy6TJHQhVryyG7xRbF\n\nView your event at https://xrboston.org/action/cir
 cle-of-grief-and-gratitude-on-the-winter-sol/\n-::~:~::~:~:~:~:~:~:~:~:~:~
 :~:~:~:~:~:~:~:~:~:~:~:~:~:~:~:~:~:~:~:~:~:~:~:~:~:~::~:~::-
LAST-MODIFIED:20211213T184804Z
LOCATION:Online event
ORGANIZER;CN="Extinction Rebellion Boston":MAILTO:outreach@xrboston.org
URL:https://xrboston.org/action/circle-of-grief-and-gratitude-on-the-winte
 r-sol/
END:VEVENT
END:VCALENDAR
