BEGIN:VCALENDAR
VERSION:2.0
PRODID:-//Extinction Rebellion Boston//Action//
BEGIN:VEVENT
SUMMARY:Climate Action Circle at Honan-Allston Public Library!
DTSTART:20220907T220000Z
DTEND:20220908T000000Z
DTSTAMP:20260421T053400Z
UID:1290@https://xrboston.org
CREATED:20260421T053400Z
DESCRIPTION:Event details: https://xrboston.org/action/climate-action-circ
 le-allston/\n\nThe Honan-Allston Branch Library is hosting a monthly Clima
 te Action Circle reading group with Extinction Rebellion Boston. In this p
 rogram\, we will examine a curated selection of texts that relate to the c
 limate emergency and inform XR Boston's theories of change. Topics will in
 clude political and organizing theory\, social movement history\, nature w
 riting\, and more. We will utilize our reading to inform our strategizing 
 as we brainstorm and ultimately implement non-violent direct action in All
 ston.
LAST-MODIFIED:20220907T032426Z
LOCATION:300 N Harvard St\nAllston\, MA 02134\nUnited States
ORGANIZER;CN="Extinction Rebellion Boston":MAILTO:outreach@xrboston.org
URL:https://xrboston.org/action/climate-action-circle-allston/
END:VEVENT
END:VCALENDAR
