BEGIN:VCALENDAR
VERSION:2.0
PRODID:-//Extinction Rebellion Boston//Action//
BEGIN:VEVENT
SUMMARY:Climate Action Circle with XR Boston at Honan-Allston Public Libra
 ry!
DTSTART:20220723T160000Z
DTEND:20220723T180000Z
DTSTAMP:20260419T181843Z
UID:1213@https://xrboston.org
CREATED:20260419T181843Z
DESCRIPTION:Event details: https://xrboston.org/action/climate-action-circ
 le-public-library/\n\nOn July 23rd\, members of Extinction Rebellion Bosto
 n and the Honan-Allston Public Library will gather together for the inaugu
 ral session of a brand new Climate Action Circle and Reading Group! \n\nOv
 er the course of the Climate Action Circle\, we will investigate a curated
  selection of texts & readings that relate to the Climate Emergency and in
 form Extinction Rebellion Boston's theories of change. These will include 
 political & organizing theory\, social movement history\, nature writing\,
  and more. During the inaugural session\, we will look at a handful of exc
 erpts from various texts & essays together and provide an overview of XR's
  Recommended Reading List\, so don't worry about coming prepared. Over sub
 sequent Circles\, we will discuss sections of books that were assigned pre
 viously. As the workshop progresses\, we will utilize our reading to infor
 m our strategizing as we brainstorm & ultimately implement non-violent dir
 ect action in Allston! \n\nIf you are an existing member of Extinction Reb
 ellion Boston and have a book recommendation that you would like to share\
 , feel free to email conradorganizes@gmail.com with the title & a brief de
 scription. \n\nSign up now to RSVP & stay tuned for further details.
LAST-MODIFIED:20220626T060527Z
LOCATION:300 North Harvard St\nAllston\, MA 02134
ORGANIZER;CN="Extinction Rebellion Boston":MAILTO:outreach@xrboston.org
URL:https://xrboston.org/action/climate-action-circle-public-library/
END:VEVENT
END:VCALENDAR
