BEGIN:VCALENDAR
VERSION:2.0
PRODID:-//Extinction Rebellion Boston//Action//
BEGIN:VEVENT
SUMMARY:Climate Caroling
DTSTART:20231209T200000Z
DTEND:20231209T220000Z
DTSTAMP:20260425T120918Z
UID:1685@https://xrboston.org
CREATED:20260425T120918Z
DESCRIPTION:Event details: https://xrboston.org/action/climate-caroling-12
 0923/\n\nLet's take to the streets and fill the air with our climate carol
 ing voices! We'll spread holiday cheer the only way we know how: enlighten
 ing people to the climate crisis with fun and flash.\n\nThis is one of our
  favorite actions of the year. Can't wait to see you there. Talent not req
 uired\, just the desire for fun :)\n\n**Location and Time**: We'll meet at
  Downtown Crossing at the intersection of Winter and Washington Streets at
  3 PM. We'll sing there until 3:30\, and then will walk and sing at Park S
 t station and in the Boston Common on our way to the Statehouse until abou
 t 4:30 (latecomers welcome!). For anyone who wants to continue the cheer w
 e'll go out for drinks at Democracy Brewing (5 min walk from Statehouse) a
 fter 4:30. \n\n**Cold/snow date**: Unless there's a really bad cold front\
 , we're on! Sign up to receive email updates in case of the former. \n\n**
 What to bring**:\n\n* Holiday clothes (if you can): green and red clothes\
 , stockings\, Santa hats\, etc.\n* Signs (XR demands\, species extinction\
 , consumerism\, etc...)\n* Your holiday cheer\n\nWe'll bring the song shee
 ts
LAST-MODIFIED:20231205T152635Z
LOCATION:Downtown Crossing T stop\, Winter and Washington St
ORGANIZER;CN="Extinction Rebellion Boston":MAILTO:outreach@xrboston.org
URL:https://xrboston.org/action/climate-caroling-120923/
END:VEVENT
END:VCALENDAR
