BEGIN:VCALENDAR
VERSION:2.0
PRODID:-//Extinction Rebellion Boston//Action//
BEGIN:VEVENT
SUMMARY:Climate Caroling in Eastie
DTSTART:20231220T000000Z
DTEND:20231220T020000Z
DTSTAMP:20260425T120333Z
UID:1684@https://xrboston.org
CREATED:20260425T120333Z
DESCRIPTION:Event details: https://xrboston.org/action/climate-caroling-ai
 rport/\n\nLet's take to the streets and fill the air with our climate caro
 ling voices! We'll spread holiday cheer the only way we know how: enlighte
 ning people to the climate crisis with fun and flash.\n\nThis is one of ou
 r favorite actions of the year. Can't wait to see you there. Talent not re
 quired\, just the desire for fun :)\n\n**Location and Time:** We'll meet a
 t the MBTA Airport Station at the side of the bus shuttles at 7 PM and pro
 ceed from there. The plan is to finish by 8pm and get some hot chocolate a
 fterwards.\n\n**What to bring:**\n\n* Holiday clothes (if you can): green 
 and red clothes\, stockings\, Santa hats\, etc.\n\n* Signs (Stop polluting
  Eastie\, XR demands\, species extinction\, consumerism\, etc...)\n\n* You
 r holiday cheer\n\n* We'll bring song sheets\, but if you want your own (o
 r a preview)\, see the [Climate Caroling Song Sheet](https://docs.google.c
 om/document/d/10QngBiJ6IczmI10xNvaDGuPV0Is-vvC-L4eqtB64lqI)
LAST-MODIFIED:20231128T014617Z
LOCATION:Airport MBTA station\, East Boston
ORGANIZER;CN="Extinction Rebellion Boston":MAILTO:outreach@xrboston.org
URL:https://xrboston.org/action/climate-caroling-airport/
END:VEVENT
END:VCALENDAR
