BEGIN:VCALENDAR
VERSION:2.0
PRODID:-//Extinction Rebellion Boston//Action//
BEGIN:VEVENT
SUMMARY:Climate Caroling - Assembly
DTSTART:20251221T190000Z
DTEND:20251221T210000Z
DTSTAMP:20260421T184915Z
UID:2199@https://xrboston.org
CREATED:20260421T184915Z
DESCRIPTION:Event details: https://xrboston.org/action/climate-caroling-as
 sembly/\n\n**Let's enlighten holiday shoppers at Assembly to the climate c
 risis by spreading holiday cheer with our climate carols!** *Meet outside 
 the Assembly T stop at 495 Revolution Dr in Somerville*\, just 10 minutes 
 on the orange line from downtown Boston. We'll stop by some particular cli
 mate offender storefronts and bring them the real holiday message: give th
 e gift of a livable planet. We'll bring the song sheets! \n\nThis is one o
 f our favorite actions of the year. Can't wait to see you there. Talent no
 t required\, just the desire for fun :)\n\nCome as you are\, but if you ha
 ve holiday clothes\, XR flags\, or signs (XR demands\, species extinction\
 , consumerism\, etc...)\, feel free to bring those too!\n\nWe'll sing for 
 about 60-90 minutes (depending on weather) and those who want to go grab a
  cup of cheer after are welcome to :)
LAST-MODIFIED:20251222T180604Z
LOCATION:495 Revolution Dr\, Somerville\, MA 02145
ORGANIZER;CN="Extinction Rebellion Boston":MAILTO:outreach@xrboston.org
URL:https://xrboston.org/action/climate-caroling-assembly/
END:VEVENT
END:VCALENDAR
