BEGIN:VCALENDAR
VERSION:2.0
PRODID:-//Extinction Rebellion Boston//Action//
BEGIN:VEVENT
SUMMARY:Climate Caroling!
DTSTART:20231221T213000Z
DTEND:20231221T233000Z
DTSTAMP:20260425T120259Z
UID:1701@https://xrboston.org
CREATED:20260425T120259Z
DESCRIPTION:Event details: https://xrboston.org/action/climate-caroling-de
 c-21-23/\n\nOnce more\, let's take to the streets and fill the air with ou
 r climate caroling voices! We'll spread holiday cheer the only way we know
  how: enlightening people to the climate crisis with fun and flash.\n\nThi
 s is one of our favorite actions of the year. Can't wait to see you there.
  Talent not required\, just the desire for fun :)\n\n**Location and Time**
 : We'll meet on the steps of the Boston Public Library in Copley Square at
  4:30 p.m.. We'll sing there until 5\, and then will walk and sing around 
 Newbury St. and Back Bay (latecomers welcome!). For anyone who wants to co
 ntinue the cheer\, we'll join the XR Winter Solstice Potluck immediately a
 fter (at 6). \n\n**What to bring**:\n\n* Holiday clothes (if you can): gre
 en and red clothes\, stockings\, Santa hats\, etc.\n* Signs (XR demands\, 
 species extinction\, consumerism\, etc...)\n* Your holiday cheer\n* a head
 lamp may be helpful\n\nWe'll bring the song sheets!
LAST-MODIFIED:20231220T131035Z
LOCATION:Copley
ORGANIZER;CN="Extinction Rebellion Boston":MAILTO:outreach@xrboston.org
URL:https://xrboston.org/action/climate-caroling-dec-21-23/
END:VEVENT
END:VCALENDAR
