BEGIN:VCALENDAR
VERSION:2.0
PRODID:-//Extinction Rebellion Boston//Action//
BEGIN:VEVENT
SUMMARY:Climate Caroling - Downtown
DTSTART:20251219T220000Z
DTEND:20251220T000000Z
DTSTAMP:20260421T184252Z
UID:2204@https://xrboston.org
CREATED:20260421T184252Z
DESCRIPTION:Event details: https://xrboston.org/action/climate-caroling-de
 c19/\n\nShare climate crisis cheer through CLIMATE CAROLS on Friday from 5
 pm - 6pm! We'll meet on the Red Line inbound platform at Park Street\, hea
 ding toward South Station. We'll stay and sing carols for a bit and may he
 ad to another T stop or two afterward. \n\nWhat to bring:\n\n* Yourself an
 d a friend if you can! Singing skills of all levels are welcome! \n* Holid
 ay clothes (if you can): green and red clothes\, stockings\, Santa hats\, 
 etc.\n* Signs (XR demands\, species extinction\, consumerism\, etc...)\n* 
 Your holiday cheer\n* We'll bring [song sheets](https://docs.google.com/do
 cument/d/1VrSLa96WwlTij2VJFTTuHDitLchKTVVpAOjETot7i2k/edit?usp=sharing)
LAST-MODIFIED:20251220T210548Z
LOCATION:Red Line Inbound (toward South Station) Platform at Park Street
ORGANIZER;CN="Extinction Rebellion Boston":MAILTO:outreach@xrboston.org
URL:https://xrboston.org/action/climate-caroling-dec19/
END:VEVENT
END:VCALENDAR
