BEGIN:VCALENDAR
VERSION:2.0
PRODID:-//Extinction Rebellion Boston//Action//
BEGIN:VEVENT
SUMMARY:Climate Caroling - Jamaica Plain!
DTSTART:20251210T220000Z
DTEND:20251211T000000Z
DTSTAMP:20260421T185340Z
UID:2185@https://xrboston.org
CREATED:20260421T185340Z
DESCRIPTION:Event details: https://xrboston.org/action/climate-caroling-ja
 maica-plain-2025/\n\nLet's take to the streets and fill the air with our c
 limate caroling voices! We'll spread holiday cheer the only way we know ho
 w: enlightening people to the climate crisis with fun and flash.\n\nThis i
 s one of our favorite actions of the year. Can't wait to see you there. Ta
 lent not required\, just the desire for fun :)\n\nLocation and Time: We wi
 ll start at Stony Brook T station (outside) and may continue to another T 
 station a little later.  We'll be caroling until about 6:30\, and hope to 
 head out to get a bite to eat and a drink together afterwards!\n\nWhat to 
 bring:\n\n* Holiday clothes (if you can): green and red clothes\, stocking
 s\, Santa hats\, etc.\n\n* XR flags\n\n* Signs (XR demands\, species extin
 ction\, consumerism\, etc...)\n\n* Your holiday cheer\n\n* We'll bring [so
 ng sheets](https://docs.google.com/document/d/1VrSLa96WwlTij2VJFTTuHDitLch
 KTVVpAOjETot7i2k/edit?usp=sharing)\n\n\n\nAccessibility\npublic
LAST-MODIFIED:20251211T210348Z
LOCATION:Stony Brook T
ORGANIZER;CN="Extinction Rebellion Boston":MAILTO:outreach@xrboston.org
URL:https://xrboston.org/action/climate-caroling-jamaica-plain-2025/
END:VEVENT
END:VCALENDAR
