BEGIN:VCALENDAR
VERSION:2.0
PRODID:-//Extinction Rebellion Boston//Action//
BEGIN:VEVENT
SUMMARY:Climate Emotions Circle
DTSTART:20251004T190000Z
DTEND:20251004T210000Z
DTSTAMP:20260421T212733Z
UID:2153@https://xrboston.org
CREATED:20260421T212733Z
DESCRIPTION:Event details: https://xrboston.org/action/climate-emotions-ci
 rcle/\n\nPlease join members of XR Boston and our Arlington community for 
 an in-person sharing circle where we can connect and work with our climate
  grief and related emotions.  We are all experiencing so many losses beca
 use of the climate crisis and our leaders' refusal to address it: weather 
 changes\, illness\, displacement\, loss of livelihood\, species extinction
 \, irrevocable changes to beloved places. These losses are compounded by o
 ther rapid changes in our society right now.\n\nHow does grief show up in 
 you?  Rage\, bitterness\, numbness\, despair\, physical reactions?  In t
 his circle\, we invite all to come\, make this a safe space\, and support 
 each other in sharing and processing the emotions of loss.  This way\, we
  can move through the feelings and be able to continue to work with love a
 nd hope to create community and positive change.\n\nWith simple prompts an
 d gentle facilitation\, we will move through reflection and sharing that w
 ill get us out of our heads and into our hearts and bodies\, where grief a
 nd love reside.  This will be a 90-minutes sharing circle\, open to all. 
  \n\nSign-up is required\, so we can plan adequately and contact you with
  an alternate meeting spot in inclement weather.\n\nFeel free to bring an 
 outside chair or blanket to sit on in the orchard.
LAST-MODIFIED:20250912T181135Z
LOCATION:Arlington Community Orchard
ORGANIZER;CN="Extinction Rebellion Boston":MAILTO:outreach@xrboston.org
URL:https://xrboston.org/action/climate-emotions-circle/
END:VEVENT
END:VCALENDAR
