BEGIN:VCALENDAR
VERSION:2.0
PRODID:-//Extinction Rebellion Boston//Action//
BEGIN:VEVENT
SUMMARY:Climate Grief Circle
DTSTART:20230712T231500Z
DTEND:20230713T011500Z
DTSTAMP:20260425T160624Z
UID:1559@https://xrboston.org
CREATED:20260425T160624Z
DESCRIPTION:Event details: https://xrboston.org/action/climate-grief-circl
 e-23-07/\n\nOur theme for this month will be rage: how can we make space f
 or anger as part of a healthy grieving process in response to destruction 
 of the natural world\, and how can we decouple anger from violence as we t
 ake action? Please consider your capacity to self-regulate while working w
 ith this hot topic.\n\nYou are welcome in this monthly circle\, where we c
 ontact and work with our climate grief. We are all experiencing so many lo
 sses because of the climate crisis\, including extinction\, displacement\,
  loss of livelihood\, and irrevocable changes to beloved places. Our resul
 ting grief can show up in many different ways\, such as numbness\, bittern
 ess\, and despair. However your grief shows up\, you are welcome in this s
 pace. We believe that working with grief requires support\, and that is wh
 at we aim to provide. What’s more\, we trust that when we engage with ou
 r grief in a supported way\, we find that we no longer need to be afraid o
 f it\, and that frees us up to show up in service and love for the communi
 ties that we hold dear.\n\nWith gentle facilitation and simple prompts\, w
 e will move through reflection and sharing that will get us out of our hea
 ds and into our hearts\, where our grief and our love for this world resid
 e. This 75-minute circle is open to all\, whether you are a seasoned rebel
  or brand-new to XR.
LAST-MODIFIED:20230628T221613Z
LOCATION:Perry Park\, Somerville
ORGANIZER;CN="Extinction Rebellion Boston":MAILTO:outreach@xrboston.org
URL:https://xrboston.org/action/climate-grief-circle-23-07/
END:VEVENT
END:VCALENDAR
