BEGIN:VCALENDAR
VERSION:2.0
PRODID:-//Extinction Rebellion Boston//Action//
BEGIN:VEVENT
SUMMARY:[SOLIDARITY] Climate Change Music Video Event
DTSTART:20250322T170000Z
DTEND:20250322T190000Z
DTSTAMP:20260426T013520Z
UID:2036@https://xrboston.org
CREATED:20260426T013520Z
DESCRIPTION:Event details: https://xrboston.org/action/climate-music-video
 /\n\nVietnam veteran\, peace activist\, environmentalist\, and musician Pa
 t Scanlon has written a song to inspire action on climate change and YOU a
 re needed for the music video! The video is going to have a montage of ima
 ges\, including images of a large crowd singing the chorus. Join in to be 
 in this crowd! Aren't a good singer? Don't worry! The audio won't be used 
 -- it's just for the visual! \n\nWe'll gather on Saturday\, March 22 from 
 1pm-2pm in the Common on the steps across from the State House to be taped
  singing the very simple chorus (to the tune of You Are My Sunshine). All 
 who are worried about the climate emergency are welcome! Let's make this a
  big\, diverse (all ages\, btw)\, beautiful crowd! YOU can make it so by c
 oming\, spreading the word\, and bringing family and friends! Your own sig
 ns are welcome\, they just can't be campaign-specific.\n\nP.S. If there's 
 interest\, let's head to a local establishment for a bite / beverage after
 ward!\n\nHere's more about the musician -- [patscanlonmusic.com](https://p
 atscanlonmusic.com).\n\nQuestions? Email outreach at xrboston.org.
LAST-MODIFIED:20250316T221405Z
LOCATION:9W5P+2J (Northeast corner of the Boston Common - across from the 
 State House at the corner of Beacon St and Park St)
ORGANIZER;CN="Extinction Rebellion Boston":MAILTO:outreach@xrboston.org
URL:https://xrboston.org/action/climate-music-video/
END:VEVENT
END:VCALENDAR
