BEGIN:VCALENDAR
VERSION:2.0
PRODID:-//Extinction Rebellion Boston//Action//
BEGIN:VEVENT
SUMMARY:Climate Philosophy - seminar series
DTSTART:20240221T233000Z
DTEND:20240222T013000Z
DTSTAMP:20260425T150959Z
UID:1713@https://xrboston.org
CREATED:20260425T150959Z
DESCRIPTION:Event details: https://xrboston.org/action/climate-philosophy-
 seminar-meeting4/\n\n<p>*What are the stakes of the climate crisis*?</p>\n
 <p>*In the face of those stakes\, what are our responsibilities\, as indiv
 iduals\, communities\, and countries*?</p>\n<p>*How should we work to redu
 ce our carbon emissions\, and how quickly?*</p>\n<p>*Who should make sacri
 fices\, and why?*</p>\n<p>*What kinds of climate activism are effective an
 d morally acceptable?*</p>\n<p>*How do we become hopeful\, empowered\, and
  effective?*</p>\n<p>*How do we balance our own interests\, the interests 
 of the global poor\, the interests of animals\, and the interests of futur
 e generations?*</p>\n<p> </p>\nIn these times of climate crisis\, few ques
 tions could be more important. Yet\, these issues and others like them rem
 ain under-explored\, or too often made overly academic. Join us in reading
 \, talking\, and acting our way through key questions to better address th
 e challenges of climate change!\n\nEach week's readings will be posted her
 e: [https://drive.google.com/drive/folders/1RkmDQtbLD7LO_VCyZjPc09-2ue0j7D
 WW](https://) -- COPY AND PASTE URL INTO BROWSER \n\nReadings will be avai
 lable at least a week ahead of time. Prior to the event\, please make an e
 ffort to do the reading at least once\, but don't be discouraged from comi
 ng if you can't get around to it - there will be a recap included at the s
 tart of each session.\n\nWe will be meeting every other Wednesday: Jan 10\
 , Jan 24\, Feb 7\, Feb 21. \nEach meeting will cover a different topic. Al
 though we would love to see you for the entire series\, you do NOT have to
  attend all sessions! Come for one or all!\nPizza (vegetarian and vegan) w
 ill be provided!\n\nCOVID POLICIES: Masks and vaccination are encouraged b
 ut not required to attend.\nThe Democracy Center runs air purifiers in the
  space at all times
LAST-MODIFIED:20240202T002152Z
LOCATION:Harvard Square - Democracy Center - 45 Mt Auburn St\, Cambridge\,
  MA 02138
ORGANIZER;CN="Extinction Rebellion Boston":MAILTO:outreach@xrboston.org
URL:https://xrboston.org/action/climate-philosophy-seminar-meeting4/
END:VEVENT
END:VCALENDAR
