BEGIN:VCALENDAR
VERSION:2.0
PRODID:-//Extinction Rebellion Boston//Action//
BEGIN:VEVENT
SUMMARY:Climate Philosophy - seminar series
DTSTART:20240110T233000Z
DTEND:20240111T013000Z
DTSTAMP:20260425T133316Z
UID:1678@https://xrboston.org
CREATED:20260425T133316Z
DESCRIPTION:Event details: https://xrboston.org/action/climate-philosophy-
 seminar-series/\n\n<p>*What are the stakes of the climate crisis*?</p>\n<p
 >*In the face of those stakes\, what are our responsibilities\, as individ
 uals\, communities\, and countries*?</p>\n<p>*How should we work to reduce
  our carbon emissions\, and how quickly?*</p>\n<p>*Who should make sacrifi
 ces\, and why?*</p>\n<p>*What kinds of climate activism are effective and 
 morally acceptable?*</p>\n<p>*How do we become hopeful\, empowered\, and e
 ffective?*</p>\n<p>*How do we balance our own interests\, the interests of
  the global poor\, the interests of animals\, and the interests of future 
 generations?*</p>\n<p> </p>\nIn these times of climate crisis\, few questi
 ons could be more important. Yet\, these issues and others like them remai
 n under-explored\, or too often made overly academic. Join us in reading\,
  talking\, and acting our way through key questions to better address the 
 challenges of climate change!\n\nEach week's readings will be posted here:
  https://drive.google.com/drive/folders/1RkmDQtbLD7LO_VCyZjPc09-2ue0j7DWW\
 n\nReadings will be available at least a week ahead of time. Prior to the 
 event\, please make an effort to do the reading at least once\, but don't 
 be discouraged from coming if you can't get around to it - there will be a
  recap included at the start of each session.\n\nWe will be meeting every 
 other Wednesday: Jan 10\, Jan 24\, Feb 7\, Feb 21. \nEach meeting will cov
 er a different topic. Although we would love to see you for the entire ser
 ies\, you do NOT have to attend all sessions! Come for one or all!\nPizza 
 (vegetarian and vegan) will be provided!\n\nCOVID POLICIES: Masks and vacc
 ination are encouraged but not required to attend.\nThe Democracy Center r
 uns air purifiers in the space at all times
LAST-MODIFIED:20240110T231153Z
LOCATION:Harvard Square - Democracy Center - 45 Mt Auburn St\, Cambridge\,
  MA 02138
ORGANIZER;CN="Extinction Rebellion Boston":MAILTO:outreach@xrboston.org
URL:https://xrboston.org/action/climate-philosophy-seminar-series/
END:VEVENT
END:VCALENDAR
