BEGIN:VCALENDAR
VERSION:2.0
PRODID:-//Extinction Rebellion Boston//Action//
BEGIN:VEVENT
SUMMARY:Re-New & Re-Home Clothing Repair & Swap Party
DTSTART:20251116T180000Z
DTEND:20251116T200000Z
DTSTAMP:20260421T201921Z
UID:2181@https://xrboston.org
CREATED:20260421T201921Z
DESCRIPTION:Event details: https://xrboston.org/action/clothing-repair-swa
 p-nov-16/\n\n**Clothing Swap and Repair! **\n\nWith cold weather fast appr
 oaching\, many are looking to buy a new fall sweater or winter coat\, eith
 er to keep up with ever-changing trends and freshen up their wardrobe\, or
  perhaps because their current clothing is in poor condition and in need o
 f repair or replacement. The fast fashion industry traps many of us in a c
 ycle of buying cheap but poor quality garments every year as people lack t
 he skills to properly care for\, mend\, and extend the life of their cloth
 es -- all while contributing significantly to pollution and landfills.\n\n
 **Help us break from this pattern at our mending party/clothing swap!**  B
 ring old clothes you don’t use anymore or favorites in need of some lovi
 ng care. You’ll be able to trade with others for new pieces that may be 
 more to your current tastes. Anything that doesn’t find a new home will 
 be donated to the Allston Brighton Congregational Church for their thrift 
 shop! We’ll also be learning how to mend and repair clothing by directio
 n of one of our experienced rebels\, so you can hold onto clothes you alre
 ady love for longer.\n\nWe'll have some needles\, thread\, scissors\, and 
 fabric available\, but if you can bring your own that would be great. \n\n
 We'll provide some fruit to share. You're welcome to bring a snack for you
 rself / to share (if sharing\, vegan please). Bring your own beverage. The
 re's a water bottle filling station. Artisans Asylum also has some snacks 
 for sale.\n\nThis event is from 1pm - 4pm.
LAST-MODIFIED:20251114T223432Z
LOCATION:Artisans Asylum\, 96 Holton St\, Boston\, MA 02135
ORGANIZER;CN="Extinction Rebellion Boston":MAILTO:outreach@xrboston.org
URL:https://xrboston.org/action/clothing-repair-swap-nov-16/
END:VEVENT
END:VCALENDAR
