BEGIN:VCALENDAR
VERSION:2.0
PRODID:-//Extinction Rebellion Boston//Action//
BEGIN:VEVENT
SUMMARY:Save Pine Barrens: Community Building Work Day | Solidarity Action
DTSTART:20220611T150000Z
DTEND:20220611T170000Z
DTSTAMP:20260419T184638Z
UID:1198@https://xrboston.org
CREATED:20260419T184638Z
DESCRIPTION:Event details: https://xrboston.org/action/community-building-
 work-day/\n\nWe are joining [Save Pine Barrens](https://savethepinebarrens
 .org) for a community building work day clean-up. Come in friendship and l
 earn about the devastating effects of toxic solar and sand mining. Lunch w
 ill be served and donations are welcome! \n\nThis event is sponsored by Sa
 ve Pine Barrens\, Community Land and Water Coalition\, and the Herring Pon
 d Tribal Council. For more info\, contact Melissa Ferretti at melissa@herr
 ingpondtribe.org.\n\n**When**: Saturday\, June 11\, from 11am-2pm\n\n**Whe
 re**: Herring Pond\, Wampanoag Pondville Meetinghouse\,  128 Herring Pond 
 Road\, Plymouth\, MA 02360\n\n-----\n\nAt XR Boston we support solar in fi
 elds and developed areas like rooftops and parking lots. We don’t condon
 e deforestation to build solar farms\, at Pine Barrens or within other cri
 tical ecosystems. Deforestation exacerbates the ecological crisis and lead
 s to biodiversity loss\, accelerating the sixth mass extinction that's cur
 rently underway.
LAST-MODIFIED:20220604T025756Z
LOCATION:Herring Pond\, Wampanoag Pondville Meetinghouse\, 128 Herring Pon
 d Road\, Plymouth\, MA 02360
ORGANIZER;CN="Extinction Rebellion Boston":MAILTO:outreach@xrboston.org
URL:https://xrboston.org/action/community-building-work-day/
END:VEVENT
END:VCALENDAR
