BEGIN:VCALENDAR
VERSION:2.0
PRODID:-//Extinction Rebellion Boston//Action//
BEGIN:VEVENT
SUMMARY:Critical Mass
DTSTART:20190726T220000Z
DTEND:20190727T000000Z
DTSTAMP:20260421T163125Z
UID:45@https://xrboston.org
CREATED:20260421T163125Z
DESCRIPTION:Event details: https://xrboston.org/action/critical-mass-7-19/
 \n\nJoin XR as we reclaim the public roads of Boston by bicycle. We will b
 ring a few XR flags\, and some flyers to hand out. We'll be joining up wit
 h Boston Critical Mass and taking part in a long standing celebration of t
 ransportation alternatives.\n\nStart gathering at around 5:30pm - ride sta
 rts at 6:00pm\n\n###About Critical Mass:\n\n> Critical Mass is a vision of
  a happy\, bike-friendly world replacing our polluted\, congested roads\, 
 a protest for better cycling facilities and against car culture\, a mobile
  paean to bicycling’s joys\, a merry ride downtown and through the neigh
 borhoods with friends\, and more – all rolled into one convenient monthl
 y ride right after work!\n\n> Critical Mass is a party on two wheels to ce
 lebrate bicycling – a fast\, friendly\, clean\, efficient\, healthy\, ch
 eap\, sensible\, and fun way to get around the city.\n\n> Critical Mass is
  not an organization. It is a coincidence. It is a xerocracy. Make your ow
 n flyers! Make a route map--maybe it will be followed! Bring a sign\, nois
 emaker\, or cupcakes to the ride!\n\n> We ride on the last Friday of every
  month at 5:30 PM in Copley Square.\n\n> This month\, join thousands in ov
 er 200 cities worldwide\, and hundreds in Bostonalone\, in celebrating Cri
 tical Mass.\n\nMore info on  [Critical Mass](http://bostoncriticalmass.org
 /)
LAST-MODIFIED:20200621T095638Z
LOCATION:Copley Square\nBoston
ORGANIZER;CN="Extinction Rebellion Boston":MAILTO:outreach@xrboston.org
URL:https://xrboston.org/action/critical-mass-7-19/
END:VEVENT
END:VCALENDAR
