BEGIN:VCALENDAR
VERSION:2.0
PRODID:-//Extinction Rebellion Boston//Action//
BEGIN:VEVENT
SUMMARY:Day 6 - Week of Rest 2023
DTSTART:20231005T130000Z
DTEND:20231005T150000Z
DTSTAMP:20260421T233410Z
UID:1612@https://xrboston.org
CREATED:20260421T233410Z
DESCRIPTION:Event details: https://xrboston.org/action/day-6-week-of-rest-
 2023/\n\nFollowing the our second annual Week of Rebellion\, we will again
  be taking a chapter-wide rest from organizing and actions from Saturday 9
 /30 to Friday 10/6. We take this from our regenerative action cycle: 1. Pl
 anning 2. Action. 3. Rest and reflection.\n\nWe ask that working groups an
 d affinity groups join us in resting and to leave the calendar empty save 
 for social activities. After the Week of Rest\, there will be a couple of 
 HONK! action that we hope you will join us for! Details TBA soon.\n\nDurin
 g this restful week consider\n\n- Taking a break from Signal and Keybase i
 f you feel that you need the quiet\n- Incorporate elements of wellness int
 o your day: sitting meditation\, yoga nidra\, journaling.\n- Make plans wi
 th other rebels to do lowkey\, social activities such as beers and climate
  change\n- Get out into nature
LAST-MODIFIED:20230822T153033Z
LOCATION:N/A
ORGANIZER;CN="Extinction Rebellion Boston":MAILTO:outreach@xrboston.org
URL:https://xrboston.org/action/day-6-week-of-rest-2023/
END:VEVENT
END:VCALENDAR
