BEGIN:VCALENDAR
VERSION:2.0
PRODID:-//Extinction Rebellion Boston//Action//
BEGIN:VEVENT
SUMMARY:December General Meeting
DTSTART:20251213T230000Z
DTEND:20251214T010000Z
DTSTAMP:20260421T184317Z
UID:2186@https://xrboston.org
CREATED:20260421T184317Z
DESCRIPTION:Event details: https://xrboston.org/action/december-general-me
 eting/\n\nJoin us for XR Boston's monthly chapter-wide community gathering
 ! This is the place for new and old members to meet\, mingle\, and connect
  with our community. \n\nIt will be held in the Fellowship Hall\, with sig
 ns directing you there.\n\nWe'll start with an hour of sharing food and so
 cializing. If you're an active XR member\, it's appreciated if you can bri
 ng a plant-based dish\, snack\, or drink to share ([coordination spreadshe
 et here](https://docs.google.com/spreadsheets/d/1ZvNOjLpu0gJoJdfmjxRFvIIZ-
 gpXOV4KzzTLkaIMl2M/edit?usp=sharing). If you're new\, or that would be a b
 arrier to participation\, don't worry...bringing yourself is enough! \n\nA
 t 7:00\, we'll circle up for introductions\, a check-in\, and a group acti
 vity. This week\, we'll be practicing climate caroling. XR Boston has been
  doing climate caroling for many years...it's the most fun\, festive way t
 o spread awareness on the climate crisis. This year\, we'll finally have a
  warm cozy indoor space to practice\, before bringing our voices out into 
 the streets! We'll also go over best practices to plan a climate caroling 
 event with your Affinity Group\, or just a handful of adventurous friends.
 \n\nAt 8:00\, there will be an hour of time set aside for Working Groups o
 r Affinity Groups to meet. Or\, feel free to just stay and hang out! \n\nT
 imeline\n\n6:00 - 7:00 Arrive\, socialize\, eat!\n\n7:00 - 8:00: Circle up
 \, and climate caroling\n\n8:00 - 9:00: Space for WGs/AGs to meet\, or jus
 t hang out.
LAST-MODIFIED:20251214T220437Z
LOCATION:Calvary Church Arlington (300 Massachusetts Avenue\, Arlington MA
  02474
ORGANIZER;CN="Extinction Rebellion Boston":MAILTO:outreach@xrboston.org
URL:https://xrboston.org/action/december-general-meeting/
END:VEVENT
END:VCALENDAR
