BEGIN:VCALENDAR
VERSION:2.0
PRODID:-//Extinction Rebellion Boston//Action//
BEGIN:VEVENT
SUMMARY:Protest SCOTUS & WV v EPA | Solidarity Protest
DTSTART:20220703T170000Z
DTEND:20220703T190000Z
DTSTAMP:20260419T182032Z
UID:1217@https://xrboston.org
CREATED:20260419T182032Z
DESCRIPTION:Event details: https://xrboston.org/action/defend-abortion-rig
 hts-solidarity-protest/\n\nXR BOSTON SOLIDARITY PROTEST: \nScared by SCOTU
 S’ undemocratic attacks over recent weeks?\nWV v EPA and Dobbs v Jackson
  rulings are literal assaults on our planet & our bodies. Take collective 
 action against these unjust rulings and stand in solidarity with women\, L
 GBTQIA\, BIPOC\, and working communities. Join XR Boston tomorrow\, 1 PM @
  15 Sudbury St!\n\n\nEnough is enough—we must rise up now to demand an e
 nd to the hostage crisis of the American people\, as 9 lifetime appointees
  continue to drive our country into blatant theocracy and ignore the will 
 of the people! \n\nEmail conradorganizes@gmail.com with any questions. We'
 ll see you in the streets on Sunday! \n\nSCOTUS is KILLING US. Hands off o
 ur planet & bans off our bodies!
LAST-MODIFIED:20220703T022703Z
LOCATION:15 Sudbury St. Boston\, MA 02113
ORGANIZER;CN="Extinction Rebellion Boston":MAILTO:outreach@xrboston.org
URL:https://xrboston.org/action/defend-abortion-rights-solidarity-protest/
END:VEVENT
END:VCALENDAR
