BEGIN:VCALENDAR
VERSION:2.0
PRODID:-//Extinction Rebellion Boston//Action//
BEGIN:VEVENT
SUMMARY:Defund Climate Chaos Street Art Project
DTSTART:20220402T140000Z
DTEND:20220402T160000Z
DTSTAMP:20260420T203652Z
UID:1096@https://xrboston.org
CREATED:20260420T203652Z
DESCRIPTION:Event details: https://xrboston.org/action/defund-climate-chao
 s-street-art-project/\n\nJoin the largest coordinated street action ever (
 that we know) to Defund Climate Chaos. On April 2nd\, from 10am to 3pm\, w
 e will meet at Graffiti Alley in Central Square\, Cambridge to wheat paste
  6 giant posters (5 1/2 feet by 3 1/2 feet) declaring the need to Defund C
 limate Chaos. XR Boston will be coordinating with groups all over the coun
 try who are together putting up 30\,000 posters. This is a fun\, family fr
 iendly\, event and is NOT an arrestable action. We will be wheat pasting i
 n a location where public art is allowed. We will need many hands to get t
 his done. Come help put up the posters or hand out flyers about XR Boston 
 and spread the word for our Earth Day action.\n\nAlso\, if you are interes
 ted\, there will be a Virtual Arts Training on March 29th\, at 8pm. Longti
 me artist activist David Solnit\,  and others\, will walk through step-by-
 step tips for pasting\, using art in actions\, and setting up a pop-up art
  show. To sign up click on this [link](https://us02web.zoom.us/webinar/reg
 ister/WN_YwdQ3r8CSvKVxp5wWZ0Wyw?link_id=0&can_id=f78703123c7e2341b4dfca321
 f43292c&source=email-say-it-with-art-defundclimatechaos-2&email_referrer=e
 mail_1463544&email_subject=arts-training-to-help-us-defund-climate-chaos)\
 n\nRain Date: April 9th\, 10am - 4pm
LAST-MODIFIED:20220329T150316Z
LOCATION:Graffiti Alley Central Square Cambridge
ORGANIZER;CN="Extinction Rebellion Boston":MAILTO:outreach@xrboston.org
URL:https://xrboston.org/action/defund-climate-chaos-street-art-project/
END:VEVENT
END:VCALENDAR
