BEGIN:VCALENDAR
VERSION:2.0
PRODID:-//Extinction Rebellion Boston//Action//
BEGIN:VEVENT
SUMMARY:Arlington Town Day - Die-In and Flyering
DTSTART:20240921T150000Z
DTEND:20240921T170000Z
DTSTAMP:20260419T184248Z
UID:1896@https://xrboston.org
CREATED:20260419T184248Z
DESCRIPTION:Event details: https://xrboston.org/action/die-in-and-flyering
 /\n\nJoin the members of the XR Arlington Affinity Group from 11:00AM to n
 oon as we spread the word about XR and the Week of Rebellion during the Ar
 lington Town Day. Joined by the Red Rebels\, we will meet on the green at 
 the corner of Pleasant St and Mass Ave in Arlington in front of the Dallin
  Museum and engage in a die-in to symbolize the death and extinction cause
 d by the extreme weather of global heating\, and pass out flyers\, invitin
 g our neighbors to join the Week of Rebellion and engage in the work to sa
 ve our climate and ecological future.
LAST-MODIFIED:20240920T023849Z
LOCATION:Arlington Center
ORGANIZER;CN="Extinction Rebellion Boston":MAILTO:outreach@xrboston.org
URL:https://xrboston.org/action/die-in-and-flyering/
END:VEVENT
END:VCALENDAR
