BEGIN:VCALENDAR
VERSION:2.0
PRODID:-//Extinction Rebellion Boston//Action//
BEGIN:VEVENT
SUMMARY:Dinosaur Die-In
DTSTART:20220917T190000Z
DTEND:20220917T210000Z
DTSTAMP:20260420T150116Z
UID:1285@https://xrboston.org
CREATED:20260420T150116Z
DESCRIPTION:Event details: https://xrboston.org/action/dinosaur-die-in/\n\
 nWe're kicking off the Boston Week of Rebellion with a Dinosaur Die-In! Br
 ing your best dinosaur costume and join XR Youth Boston as we remind peopl
 e that burning fossil fuels and destroying ecosystems is leading to the sa
 me mass extinction that killed the dinosaurs. We will meet at the Samuel A
 dams statue in Faneuil  Hall and preform a quick skit before marching to o
 ur die-in location. \n🦖🦖🌠🌠💥💥\nAll ages welcome!
LAST-MODIFIED:20220916T003318Z
LOCATION:Faneuil Hall near the Sam Adams statue
ORGANIZER;CN="Extinction Rebellion Boston":MAILTO:outreach@xrboston.org
URL:https://xrboston.org/action/dinosaur-die-in/
END:VEVENT
END:VCALENDAR
