BEGIN:VCALENDAR
VERSION:2.0
PRODID:-//Extinction Rebellion Boston//Action//
BEGIN:VEVENT
SUMMARY:NNFFI Campaign Discussion Session
DTSTART:20231203T210000Z
DTEND:20231203T230000Z
DTSTAMP:20260425T120122Z
UID:1645@https://xrboston.org
CREATED:20260425T120122Z
DESCRIPTION:Event details: https://xrboston.org/action/discussionsession/\
 n\nShare your thoughts on how our chapter can be successful next year. In 
 this facilitated discussion we will look ahead to next year and envision w
 hat our campaign demand(s)\, messaging\, actions\, and art could look like
  in 2024. We welcome all members of our chapter to join in this thoughtful
  session. This is an opportunity to reflect on this past year and share yo
 ur thoughts on what strategies and ideas we will need to bring into 2024 t
 o most effectively work toward building a mass movement to stop 'business 
 as usual' in Massachusetts and address the climate emergency. Note that wh
 ile this is a facilitated discussion\, this is not a time where any decisi
 ons or consensus' are formed\; Rather\, view this as a brainstorming sessi
 on where we can learn from each other and take away ideas to inform our ca
 mpaign strategy.\n\nAn agenda will be shared in advance to all who rsvp'd\
 , and a copy containing all notes from the meeting will be available upon 
 request afterward.  If you are not able to attend but would like to provid
 e thoughts to be shared with the group\, there is a form that can be fille
 d out and submitted\, linked below.\n\nhttps://cryptpad.fr/form/#/2/form/v
 iew/4SQ5m8QL5xQ8n9cAWjwXOBgU9xhta-RV5lzGfBOs4Q8/\n\nWe will start at 4:00p
 m and wrap up around 6:00pm. This is an in-person discussion. The location
  is at Tim\, Alex and Brian's house at 48 Harvard Ave. in Medford. By publ
 ic transit this location is accessible using the 80\, 94\, and 95 bus rout
 es. The Medford Station on the Lowell Line commuter rail is also located a
 pproximately a two-minute walk away. Street parking is available around th
 e corner on Boston Avenue.
LAST-MODIFIED:20231128T220732Z
LOCATION:48 Harvard Ave.\, Medford\, MA 02155
ORGANIZER;CN="Extinction Rebellion Boston":MAILTO:outreach@xrboston.org
URL:https://xrboston.org/action/discussionsession/
END:VEVENT
END:VCALENDAR
