BEGIN:VCALENDAR
VERSION:2.0
PRODID:-//Extinction Rebellion Boston//Action//
BEGIN:VEVENT
SUMMARY:Don't bank at Chase!
DTSTART:20220908T160000Z
DTEND:20220908T180000Z
DTSTAMP:20260421T191938Z
UID:1286@https://xrboston.org
CREATED:20260421T191938Z
DESCRIPTION:Event details: https://xrboston.org/action/dont-bank-at-chase/
 \n\nThis September\, Chase Bank will be enticing students to open accounts
  when school opens. What many students don’t know is that Chase is a fos
 sil fuel giant. The bank uses customer account money\, credit card profits
  and stock investments to bankroll outfits like the Russian energy giant G
 azprom. If you are lucky enough to own mutual funds\, you probably own Cha
 se stock. In 2021\, Chase invested $61.7 billion dollars in fossil fuel co
 mpanies. This financing results in the record atmospheric carbon dioxide l
 evels that are killing life on earth. Chase earns while the earth burns.\n
 \nJoin us in distributing flyers on Thursday September 8\, from 12-2pm and
  urging prospective Chase customers not to invest in this fossil fuel behe
 moth disguising itself as a community bank. We will also be promoting XR B
 oston’s Week of Rebellion. RSVP on this page and we will email you the e
 xact location of the action. It will be somewhere in the Boston/Brookline 
 area. With additional rebels\, we can have more of a presence with banners
 \, flags and signs. So sign up today!\n\nFor more on banks funding fossil 
 fuel companies and the climate crisis\, take a look at [this entertaining 
 yet sobering video](https://www.youtube.com/watch?v=NJ7W6HFHPYs&t=213s).\n
 \nSources:\n\n['Pouring gasoline on the fire': JPMorgan\, Citi and other U
 .S. banks lead rise in lending to oil and gas: report - MarketWatch](https
 ://www.marketwatch.com/story/pouring-gasoline-on-the-fire-jpmorgan-citi-an
 d-other-u-s-banks-lead-rise-in-lending-to-oil-and-gas-report-11648642894)\
 n\n[Global banks keep up pace with $742bn in fossil fuel finance despite c
 limate pledges | Financial Times](https://www.ft.com/content/3eeee0f7-bb02
 -4950-a6d6-49da39c3cc41)\n\n[To Fight Climate Change\, Change Your Bank - 
 Bloomberg](https://www.bloomberg.com/opinion/articles/2022-07-28/to-fight-
 climate-change-change-your-bank)
LAST-MODIFIED:20220827T184950Z
LOCATION:TBA
ORGANIZER;CN="Extinction Rebellion Boston":MAILTO:outreach@xrboston.org
URL:https://xrboston.org/action/dont-bank-at-chase/
END:VEVENT
END:VCALENDAR
