BEGIN:VCALENDAR
VERSION:2.0
PRODID:-//Extinction Rebellion Boston//Action//
BEGIN:VEVENT
SUMMARY:DRAG the Dirty Banks!!
DTSTART:20231025T200000Z
DTEND:20231025T220000Z
DTSTAMP:20260421T231535Z
UID:1658@https://xrboston.org
CREATED:20260421T231535Z
DESCRIPTION:Event details: https://xrboston.org/action/drag-the-dirty-bank
 s/\n\nJoin for the *Rainbow Rebellion's first-ever action*!! (The Rainbow 
 Rebellion is the Queer affinity group within XR\, but **all are welcome** 
 at this action!)\n\n*When*: Wednesday\, October 25th 4-5:30 PM\n\n*Where*:
  Meet at 830 Boylston St\, Boston MA - near the entrance to the Pru\n\nJoi
 n us as we dress in drag as cleaners and clean up dirty fossil fuel fundin
 g banks! We will go to 4 major banks in the Boston area that finance fossi
 l fuel infrastructure and expose their dirty dealings\, all while dressed 
 in drag or gender-bending cleaning outfits\, bringing some queerness to cl
 imate action! As we humorously clean up their lobbies and their acts\, we 
 will demand that they stop funding fossil fuel projects\, educating bank c
 ustomers and passers-by. Let's DRAG the dirty banks! \n\nNot ready to dres
 s up? No worries! We'll need many hands to help hold banners\, hand out fl
 yers\, and take pictures/video. **Please sign up!**\n\nWhy banks? The worl
 d's 60 biggest banks have funded over $5.5 TRILLION in just 7 years into f
 ossil fuel funding. Chase\, Citi\, Wells Fargo\, Bank of America\, and TD 
 bank funded $175 Billion in 2022 alone. If we cut off this funding\, we ca
 n end the era of fossil fuels faster and move those investments to low car
 bon alternative energy sources. More info here: [Banking on Climate Chaos]
 (https://https://www.bankingonclimatechaos.org/)\n\n**In queer climate act
 ion\, love\, and rage**
LAST-MODIFIED:20231022T015735Z
LOCATION:830 Boylston St Boston\, MA
ORGANIZER;CN="Extinction Rebellion Boston":MAILTO:outreach@xrboston.org
URL:https://xrboston.org/action/drag-the-dirty-banks/
END:VEVENT
END:VCALENDAR
