BEGIN:VCALENDAR
VERSION:2.0
PRODID:-//Extinction Rebellion Boston//Action//
BEGIN:VEVENT
SUMMARY:Drop Dirty Banks in Jamaica Plain
DTSTART:20251014T210000Z
DTEND:20251014T230000Z
DTSTAMP:20260421T213610Z
UID:2170@https://xrboston.org
CREATED:20260421T213610Z
DESCRIPTION:Event details: https://xrboston.org/action/drop-dirty-banks-in
 -jamaica-plain/\n\nJoin up with the Jamaica Plain Affinity Group to contin
 ue our campaign to call out fossil fuel- and genocide-funding "Dirty Banks
 "- and encourage our neighbors to move their money to sustainable banks in
 stead.\n\nBig banks are the largest financial contributors to the fossil f
 uel industry\, and they use our money to further climate chaos. Find out m
 ore here: [https://xrboston.org/drop-your-dirty-bank/]([https://xrboston.o
 rg/drop-your-dirty-bank/).\n\nMeet us in front of the boathouse at Jamaica
  Pond. We will hold our banners in view of cars and pedestrians to encoura
 ge people to rethink their banking choices. We will distribute fliers for 
 our Oct 30 action later this month. Our banners read:\n* Does Your Bank Fu
 nd Climate Change?\n* Does Your Bank Fund War?\n* Drop Your Dirty Bank!\n\
 nIf you are interested in borrowing these banners to bring them into your 
 neighborhood\, let us know and we can share them!
LAST-MODIFIED:20251012T223945Z
LOCATION:458 Jamaicaway
ORGANIZER;CN="Extinction Rebellion Boston":MAILTO:outreach@xrboston.org
URL:https://xrboston.org/action/drop-dirty-banks-in-jamaica-plain/
END:VEVENT
END:VCALENDAR
