BEGIN:VCALENDAR
VERSION:2.0
PRODID:-//Extinction Rebellion Boston//Action//
BEGIN:VEVENT
SUMMARY:Drop In Art Build
DTSTART:20231024T210000Z
DTEND:20231024T230000Z
DTSTAMP:20260421T231631Z
UID:1662@https://xrboston.org
CREATED:20260421T231632Z
DESCRIPTION:Event details: https://xrboston.org/action/drop-in-art-build/\
 n\nDrop into the Puppet Free Library between 5pm to 8pm to help us make pr
 otest art for our upcoming actions.
LAST-MODIFIED:20231024T141911Z
LOCATION:Puppet Free Library
ORGANIZER;CN="Extinction Rebellion Boston":MAILTO:outreach@xrboston.org
URL:https://xrboston.org/action/drop-in-art-build/
END:VEVENT
END:VCALENDAR
