BEGIN:VCALENDAR
VERSION:2.0
PRODID:-//Extinction Rebellion Boston//Action//
BEGIN:VEVENT
SUMMARY:Drop in Art Build at Mystic Open Studios\, Arlington
DTSTART:20240127T150000Z
DTEND:20240127T170000Z
DTSTAMP:20260425T133611Z
UID:1709@https://xrboston.org
CREATED:20260425T133611Z
DESCRIPTION:Event details: https://xrboston.org/action/drop-in-art-build-a
 rlington-0127/\n\nJoin us for a monthly climate justice art build at Mysti
 c Open Studios in Arlington from 10am to noon. \n\nWe will be making flags
  for the XR queer affinity group Rainbow Rebellion!  We will block print o
 n progress pride flags and any other pride flags that folks would like to 
 bring in.  There will also be other activities including block printing pa
 tches\, sewing XR flags\, and block carving. \n\nWe supply the materials\,
  you bring your enthusiasm and love for our planet. Art skills not necessa
 ry!
LAST-MODIFIED:20240108T190511Z
LOCATION:Mystic Open Studios
ORGANIZER;CN="Extinction Rebellion Boston":MAILTO:outreach@xrboston.org
URL:https://xrboston.org/action/drop-in-art-build-arlington-0127/
END:VEVENT
END:VCALENDAR
