BEGIN:VCALENDAR
VERSION:2.0
PRODID:-//Extinction Rebellion Boston//Action//
BEGIN:VEVENT
SUMMARY:Drop in Art Build at Mystic Open Studios\, Arlington
DTSTART:20240224T150000Z
DTEND:20240224T170000Z
DTSTAMP:20260425T153147Z
UID:1736@https://xrboston.org
CREATED:20260425T153147Z
DESCRIPTION:Event details: https://xrboston.org/action/drop-in-art-build-a
 rlington-0224/\n\nJoin us for a monthly climate justice art build at Mysti
 c Open Studios in Arlington from 10am to noon!  \n\nDrop in to help us sew
  and block print XR flags.  We will also be making cardboard photo frames 
 and block printing fabric patches.  We supply the materials\, you bring yo
 ur enthusiasm and love for our planet. Art skills not necessary!\n\nFeel f
 ree to wear a mask\, but they are not required. If you are feeling unwell\
 , please stay home and join us at a future art build.
LAST-MODIFIED:20240222T230352Z
LOCATION:Mystic Open Studios
ORGANIZER;CN="Extinction Rebellion Boston":MAILTO:outreach@xrboston.org
URL:https://xrboston.org/action/drop-in-art-build-arlington-0224/
END:VEVENT
END:VCALENDAR
