BEGIN:VCALENDAR
VERSION:2.0
PRODID:-//Extinction Rebellion Boston//Action//
BEGIN:VEVENT
SUMMARY:Drop in Art Build at Mystic Open Studio\, Arlington
DTSTART:20260228T150000Z
DTEND:20260228T170000Z
DTSTAMP:20260421T153903Z
UID:2208@https://xrboston.org
CREATED:20260421T153903Z
DESCRIPTION:Event details: https://xrboston.org/action/drop-in-art-build-a
 rlington-0228/\n\nJoin us for a monthly climate justice art build at Mysti
 c Open Studios in Arlington from 10am to noon!  \n\nThis month we are coll
 aborating with ArtsArlington to contribute to a public arts project celebr
 ating herring in the Mystic River Watershed.  More details on the workshop
  can be found below\, and as always\, we supply the materials\, you bring 
 your enthusiasm and love for our planet.  Art skills not necessary!\n\nFee
 l free to wear a mask\, but they are not required. If you are feeling unwe
 ll\, please stay home and join us at a future art build.\n\nGo Fish Worksh
 op\nFebruary 28\, 10 to noon\nExtinction Rebellion and ArtsArlington invit
 e you to paint a fish or two for Arlington's newest public art project. Ar
 tsArlington will install 2\,000 individually painted herring on the brick 
 walls of the Fox Library and surrounding storefronts to celebrate the prot
 ection of urban waterways and wildlife\, creativity and community.  The co
 urageous herring swims upstream from the ocean every year to spawn. A comb
 ination of advocacy by the Mystic River Watershed Association and its volu
 nteers\, government regulation\, and new fish ladders have increased the p
 opulation of these once endangered fish. Free and open to all\; ages 12 an
 d under must be accompanied by an adult. Go Fish is supported by a grant f
 rom the Mass Cultural Council and donations from AlumiGraphics Smooth by F
 loorSignage\, LLC and Blick Art Supplies.
LAST-MODIFIED:20260301T140842Z
LOCATION:Mystic Open Studios
ORGANIZER;CN="Extinction Rebellion Boston":MAILTO:outreach@xrboston.org
URL:https://xrboston.org/action/drop-in-art-build-arlington-0228/
END:VEVENT
END:VCALENDAR
