BEGIN:VCALENDAR
VERSION:2.0
PRODID:-//Extinction Rebellion Boston//Action//
BEGIN:VEVENT
SUMMARY:Drop in Art Build at Mystic Open Studios\, Arlington
DTSTART:20250830T140000Z
DTEND:20250830T160000Z
DTSTAMP:20260422T002536Z
UID:2127@https://xrboston.org
CREATED:20260422T002536Z
DESCRIPTION:Event details: https://xrboston.org/action/drop-in-art-build-a
 rlington-0830/\n\nJoin us for a monthly climate justice art build at Mysti
 c Open Studios in Arlington from 10am to 11:30am!  It will be followed by 
 our monthly [Arlington Affinity Group gathering and potluck](https://xrbos
 ton.org/action/arlington-affinity-group-gathering-6/) from 11:30am-1pm.\n\
 nDrop in to help us make art for upcoming actions.  We supply the material
 s\, you bring your enthusiasm and love for our planet.  Art skills not nec
 essary!\n\nFeel free to wear a mask\, but they are not required. If you ar
 e feeling unwell\, please stay home and join us at a future art build.
LAST-MODIFIED:20250811T184128Z
LOCATION:Mystic Open Studios
ORGANIZER;CN="Extinction Rebellion Boston":MAILTO:outreach@xrboston.org
URL:https://xrboston.org/action/drop-in-art-build-arlington-0830/
END:VEVENT
END:VCALENDAR
