BEGIN:VCALENDAR
VERSION:2.0
PRODID:-//Extinction Rebellion Boston//Action//
BEGIN:VEVENT
SUMMARY:Drop in Art Build at Mystic Open Studios\, Arlington
DTSTART:20250927T140000Z
DTEND:20250927T160000Z
DTSTAMP:20260421T231137Z
UID:2128@https://xrboston.org
CREATED:20260421T231137Z
DESCRIPTION:Event details: https://xrboston.org/action/drop-in-art-build-a
 rlington-0927/\n\nJoin us for a monthly climate justice art build at Mysti
 c Open Studios in Arlington from 10am to 11:30!  The art build will be fol
 lowed by our [Arlington Affinity Group gathering](https://xrboston.org/act
 ion/arlington-affinity-group-gathering-10/).  \n\nDrop in to help us make 
 art for upcoming actions.  We supply the materials\, you bring your enthus
 iasm and love for our planet.  Art skills not necessary!\n\nFeel free to w
 ear a mask\, but they are not required. If you are feeling unwell\, please
  stay home and join us at a future art build.
LAST-MODIFIED:20250923T031405Z
LOCATION:Mystic Open Studios
ORGANIZER;CN="Extinction Rebellion Boston":MAILTO:outreach@xrboston.org
URL:https://xrboston.org/action/drop-in-art-build-arlington-0927/
END:VEVENT
END:VCALENDAR
