BEGIN:VCALENDAR
VERSION:2.0
PRODID:-//Extinction Rebellion Boston//Action//
BEGIN:VEVENT
SUMMARY:Drop in Art Build at Mystic Open Studios\, Arlington
DTSTART:20231230T150000Z
DTEND:20231230T170000Z
DTSTAMP:20260425T121407Z
UID:1672@https://xrboston.org
CREATED:20260425T121407Z
DESCRIPTION:Event details: https://xrboston.org/action/drop-in-art-build-a
 rlington-1230/\n\nJoin us for a monthly climate justice art build at Mysti
 c Open Studios in Arlington on Saturday December 30th from 10am to noon. \
 n\nWe will be making art for nighttime events with lights and glow paint. 
  We will also be sewing and block printing XR flags and finish attaching c
 olorful streamers.\n\nWe supply the materials\, you bring your enthusiasm 
 and love for our planet. Art skills not necessary!
LAST-MODIFIED:20231219T120527Z
LOCATION:Mystic Open Studios
ORGANIZER;CN="Extinction Rebellion Boston":MAILTO:outreach@xrboston.org
URL:https://xrboston.org/action/drop-in-art-build-arlington-1230/
END:VEVENT
END:VCALENDAR
