BEGIN:VCALENDAR
VERSION:2.0
PRODID:-//Extinction Rebellion Boston//Action//
BEGIN:VEVENT
SUMMARY:Drop in Art Build at Mystic Open Studios\, Arlington
DTSTART:20250329T140000Z
DTEND:20250329T160000Z
DTSTAMP:20260423T005149Z
UID:2022@https://xrboston.org
CREATED:20260423T005149Z
DESCRIPTION:Event details: https://xrboston.org/action/drop-in-art-build-a
 t-arlington-0328/\n\nJoin us for a monthly climate justice art build at My
 stic Open Studios in Arlington from 10am to noon!  \n\nDrop in to help us 
 make art for upcoming actions\, including signs for the Arlington Affinity
  Group's Standout for Love.  We supply the materials\, you bring your enth
 usiasm and love for our planet.  Art skills not necessary!\n\nFeel free to
  wear a mask\, but they are not required. If you are feeling unwell\, plea
 se stay home and join us at a future art build.
LAST-MODIFIED:20250311T131424Z
LOCATION:Mystic Open Studios
ORGANIZER;CN="Extinction Rebellion Boston":MAILTO:outreach@xrboston.org
URL:https://xrboston.org/action/drop-in-art-build-at-arlington-0328/
END:VEVENT
END:VCALENDAR
