BEGIN:VCALENDAR
VERSION:2.0
PRODID:-//Extinction Rebellion Boston//Action//
BEGIN:VEVENT
SUMMARY:Drop in Art Build at the Artisan's Asylum
DTSTART:20240323T160000Z
DTEND:20240323T180000Z
DTSTAMP:20260425T164906Z
UID:1770@https://xrboston.org
CREATED:20260425T164906Z
DESCRIPTION:Event details: https://xrboston.org/action/drop-in-art-build-a
 t-the-artisans-asylum/\n\nDrop into the Artisan's Asylum between noon and 
 2pm to help us make fabric protest signs and shirts for upcoming April act
 ions!\n\nWe supply the materials\, you bring your enthusiasm. Art skills n
 ot necessary!\n\nFeel free to wear a mask\, but they are not required. If 
 you are feeling unwell\, please stay home and join us at a future art buil
 d.
LAST-MODIFIED:20240321T210448Z
LOCATION:Artisan's Asylum
ORGANIZER;CN="Extinction Rebellion Boston":MAILTO:outreach@xrboston.org
URL:https://xrboston.org/action/drop-in-art-build-at-the-artisans-asylum/
END:VEVENT
END:VCALENDAR
