BEGIN:VCALENDAR
VERSION:2.0
PRODID:-//Extinction Rebellion Boston//Action//
BEGIN:VEVENT
SUMMARY:Drop in Art Build at the Artisan's Asylum
DTSTART:20240413T190000Z
DTEND:20240413T210000Z
DTSTAMP:20260425T181653Z
UID:1782@https://xrboston.org
CREATED:20260425T181653Z
DESCRIPTION:Event details: https://xrboston.org/action/drop-in-art-build-a
 t-the-artisans-asylum0413/\n\nDrop into the Artisan's Asylum between 3pm a
 nd 5pm to help us make fabric protest signs and shirts for upcoming April 
 actions!\n\nWe supply the materials\, you bring your enthusiasm. Art skill
 s not necessary!\n\nFeel free to wear a mask\, but they are not required. 
 If you are feeling unwell\, please stay home and join us at a future art b
 uild.
LAST-MODIFIED:20240402T190009Z
LOCATION:Artisan's Asylum
ORGANIZER;CN="Extinction Rebellion Boston":MAILTO:outreach@xrboston.org
URL:https://xrboston.org/action/drop-in-art-build-at-the-artisans-asylum04
 13/
END:VEVENT
END:VCALENDAR
