BEGIN:VCALENDAR
VERSION:2.0
PRODID:-//Extinction Rebellion Boston//Action//
BEGIN:VEVENT
SUMMARY:Cancelled - Drop in Art Build at the Puppet Free Library
DTSTART:20240116T220000Z
DTEND:20240117T000000Z
DTSTAMP:20260425T133629Z
UID:1716@https://xrboston.org
CREATED:20260425T133629Z
DESCRIPTION:Event details: https://xrboston.org/action/drop-in-art-build-a
 t-the-puppet-free-library-0116/\n\n*cancelled* Drop into the Puppet Free L
 ibrary between 5pm and 8pm to help us block print love-themed patches for 
 the upcoming [General Meeting and New Year Kickoff](https://xrboston.org/a
 ction/general-meeting-jan2024/)!\n\nWe will supply the materials\, you bri
 ng your enthusiasm and love for our planet. Art skills not necessary!
LAST-MODIFIED:20240116T214433Z
LOCATION:Puppet Free Library
ORGANIZER;CN="Extinction Rebellion Boston":MAILTO:outreach@xrboston.org
URL:https://xrboston.org/action/drop-in-art-build-at-the-puppet-free-libra
 ry-0116/
END:VEVENT
END:VCALENDAR
