BEGIN:VCALENDAR
VERSION:2.0
PRODID:-//Extinction Rebellion Boston//Action//
BEGIN:VEVENT
SUMMARY:Drop in Art Build at the Puppet Free Library
DTSTART:20240123T220000Z
DTEND:20240124T000000Z
DTSTAMP:20260425T133754Z
UID:1717@https://xrboston.org
CREATED:20260425T133754Z
DESCRIPTION:Event details: https://xrboston.org/action/drop-in-art-build-a
 t-the-puppet-free-library-0123/\n\nDrop into the Puppet Free Library betwe
 en 5pm and 8pm to help us make art for upcoming actions!  \n\nWe will supp
 ly the materials\, you bring your enthusiasm and love for our planet. Art 
 skills not necessary!
LAST-MODIFIED:20240112T182707Z
LOCATION:Puppet Free Library
ORGANIZER;CN="Extinction Rebellion Boston":MAILTO:outreach@xrboston.org
URL:https://xrboston.org/action/drop-in-art-build-at-the-puppet-free-libra
 ry-0123/
END:VEVENT
END:VCALENDAR
