BEGIN:VCALENDAR
VERSION:2.0
PRODID:-//Extinction Rebellion Boston//Action//
BEGIN:VEVENT
SUMMARY:Drop in Art Build at the Puppet Free Library
DTSTART:20240206T220000Z
DTEND:20240207T000000Z
DTSTAMP:20260425T151414Z
UID:1724@https://xrboston.org
CREATED:20260425T151414Z
DESCRIPTION:Event details: https://xrboston.org/action/drop-in-art-build-a
 t-the-puppet-free-library-0206/\n\nDrop into the Puppet Free Library betwe
 en 5pm and 8pm to help us make art for upcoming Valentine's Day actions!  
 \n\nCome express your love and rage with art!  We will supply the material
 s\, you bring your enthusiasm. Art skills not necessary!\n\nFeel free to w
 ear a mask\, but they are not required.  If you are feeling unwell\, pleas
 e stay home and join us at a future art build.
LAST-MODIFIED:20240128T150004Z
LOCATION:Puppet Free Library
ORGANIZER;CN="Extinction Rebellion Boston":MAILTO:outreach@xrboston.org
URL:https://xrboston.org/action/drop-in-art-build-at-the-puppet-free-libra
 ry-0206/
END:VEVENT
END:VCALENDAR
