BEGIN:VCALENDAR
VERSION:2.0
PRODID:-//Extinction Rebellion Boston//Action//
BEGIN:VEVENT
SUMMARY:Drop in Art Build at the Puppet Free Library
DTSTART:20240305T220000Z
DTEND:20240306T000000Z
DTSTAMP:20260425T165055Z
UID:1747@https://xrboston.org
CREATED:20260425T165055Z
DESCRIPTION:Event details: https://xrboston.org/action/drop-in-art-build-a
 t-the-puppet-free-library-0305/\n\nDrop into the Puppet Free Library betwe
 en 5pm and 8pm to help us make art for upcoming actions!  \n\nOne of the p
 rojects we will be working on is building flag stands with wood and PVC pi
 pe scraps.  We will supply the materials\, you bring your enthusiasm. Art 
 skills not necessary!\n\nFeel free to wear a mask\, but they are not requi
 red.  If you are feeling unwell\, please stay home and join us at a future
  art build.
LAST-MODIFIED:20240222T230824Z
LOCATION:Puppet Free Library
ORGANIZER;CN="Extinction Rebellion Boston":MAILTO:outreach@xrboston.org
URL:https://xrboston.org/action/drop-in-art-build-at-the-puppet-free-libra
 ry-0305/
END:VEVENT
END:VCALENDAR
