BEGIN:VCALENDAR
VERSION:2.0
PRODID:-//Extinction Rebellion Boston//Action//
BEGIN:VEVENT
SUMMARY:Drop in Art Build at the Puppet Free Library
DTSTART:20240312T210000Z
DTEND:20240312T230000Z
DTSTAMP:20260425T165055Z
UID:1756@https://xrboston.org
CREATED:20260425T165055Z
DESCRIPTION:Event details: https://xrboston.org/action/drop-in-art-build-a
 t-the-puppet-free-library-0312/\n\nDrop into the Puppet Free Library betwe
 en 5pm and 8pm to help us make art for upcoming actions!  \n\nWe will be m
 aking shrouds for upcoming die-ins.  We supply the materials\, you bring y
 our enthusiasm. Art skills not necessary!\n\nFeel free to wear a mask\, bu
 t they are not required.  If you are feeling unwell\, please stay home and
  join us at a future art build.
LAST-MODIFIED:20240308T234102Z
LOCATION:Puppet Free Library
ORGANIZER;CN="Extinction Rebellion Boston":MAILTO:outreach@xrboston.org
URL:https://xrboston.org/action/drop-in-art-build-at-the-puppet-free-libra
 ry-0312/
END:VEVENT
END:VCALENDAR
