BEGIN:VCALENDAR
VERSION:2.0
PRODID:-//Extinction Rebellion Boston//Action//
BEGIN:VEVENT
SUMMARY:Drop in Art Build at the Puppet Free Library
DTSTART:20240319T210000Z
DTEND:20240319T230000Z
DTSTAMP:20260425T165117Z
UID:1766@https://xrboston.org
CREATED:20260425T165117Z
DESCRIPTION:Event details: https://xrboston.org/action/drop-in-art-build-a
 t-the-puppet-free-library-0319/\n\nDrop into the Puppet Free Library betwe
 en 5pm and 8pm to help us make fabric protest signs for upcoming actions! 
  \n\nWe supply the materials\, you bring your enthusiasm. Art skills not n
 ecessary!\n\nFeel free to wear a mask\, but they are not required.  If you
  are feeling unwell\, please stay home and join us at a future art build.
LAST-MODIFIED:20240315T210007Z
LOCATION:Puppet Free Library
ORGANIZER;CN="Extinction Rebellion Boston":MAILTO:outreach@xrboston.org
URL:https://xrboston.org/action/drop-in-art-build-at-the-puppet-free-libra
 ry-0319/
END:VEVENT
END:VCALENDAR
