BEGIN:VCALENDAR
VERSION:2.0
PRODID:-//Extinction Rebellion Boston//Action//
BEGIN:VEVENT
SUMMARY:Drop in Art Build at the Puppet Free Library
DTSTART:20241029T210000Z
DTEND:20241029T230000Z
DTSTAMP:20260425T165055Z
UID:1927@https://xrboston.org
CREATED:20260425T165055Z
DESCRIPTION:Event details: https://xrboston.org/action/drop-in-art-build-a
 t-the-puppet-free-library-1029/\n\nDrop into the Puppet Free Library betwe
 en 5pm and 8pm to help us make art for upcoming actions!\n\nWe also have a
  block for printing XR t-shirts\, so feel free to bring a shirt\, bag\, or
  other garment to print and wear to an upcoming XR event.  We supply the m
 aterials\, you bring your enthusiasm. Art skills not necessary!\n\nFeel fr
 ee to wear a mask\, but they are not required. If you are feeling unwell\,
  please stay home and join us at a future art build.
LAST-MODIFIED:20241016T190839Z
LOCATION:Puppet Free Library
ORGANIZER;CN="Extinction Rebellion Boston":MAILTO:outreach@xrboston.org
URL:https://xrboston.org/action/drop-in-art-build-at-the-puppet-free-libra
 ry-1029/
END:VEVENT
END:VCALENDAR
