BEGIN:VCALENDAR
VERSION:2.0
PRODID:-//Extinction Rebellion Boston//Action//
BEGIN:VEVENT
SUMMARY:Drop in Art Build at the Puppet Free Library
DTSTART:20231121T220000Z
DTEND:20231122T000000Z
DTSTAMP:20260425T110033Z
UID:1679@https://xrboston.org
CREATED:20260425T110033Z
DESCRIPTION:Event details: https://xrboston.org/action/drop-in-art-build-a
 t-the-puppet-free-library-1121/\n\nDrop into the Puppet Free Library betwe
 en 5pm and 8pm to help us make protest art for our upcoming actions.  We w
 ill  be block printing on paper to make light boxes.  No block printing ex
 perience necessary!
LAST-MODIFIED:20231117T161704Z
LOCATION:Puppet Free Library
ORGANIZER;CN="Extinction Rebellion Boston":MAILTO:outreach@xrboston.org
URL:https://xrboston.org/action/drop-in-art-build-at-the-puppet-free-libra
 ry-1121/
END:VEVENT
END:VCALENDAR
