BEGIN:VCALENDAR
VERSION:2.0
PRODID:-//Extinction Rebellion Boston//Action//
BEGIN:VEVENT
SUMMARY:Drop in Art Build at the Puppet Free Library
DTSTART:20231212T220000Z
DTEND:20231213T000000Z
DTSTAMP:20260425T121702Z
UID:1686@https://xrboston.org
CREATED:20260425T121702Z
DESCRIPTION:Event details: https://xrboston.org/action/drop-in-art-build-a
 t-the-puppet-free-library-1212/\n\nDrop into the Puppet Free Library betwe
 en 5pm and 8pm to help us make protest art for the State House Stand-Out! 
  \n\nWe will supply the materials\, you bring your enthusiasm and love for
  our planet. Art skills not necessary!
LAST-MODIFIED:20231211T173845Z
LOCATION:Puppet Free Library
ORGANIZER;CN="Extinction Rebellion Boston":MAILTO:outreach@xrboston.org
URL:https://xrboston.org/action/drop-in-art-build-at-the-puppet-free-libra
 ry-1212/
END:VEVENT
END:VCALENDAR
