BEGIN:VCALENDAR
VERSION:2.0
PRODID:-//Extinction Rebellion Boston//Action//
BEGIN:VEVENT
SUMMARY:Drop in Art Build at the Puppet Free Library
DTSTART:20240416T210000Z
DTEND:20240416T230000Z
DTSTAMP:20260425T182025Z
UID:1786@https://xrboston.org
CREATED:20260425T182025Z
DESCRIPTION:Event details: https://xrboston.org/action/drop-in-art-build-a
 t-the-puppet-free-library-416/\n\nDrop into the Puppet Free Library betwee
 n 5pm and 8pm to help us make art for upcoming April actions!\n\nWe supply
  the materials\, you bring your enthusiasm. Art skills not necessary!\n\nF
 eel free to wear a mask\, but they are not required. If you are feeling un
 well\, please stay home and join us at a future art build.
LAST-MODIFIED:20240414T122542Z
LOCATION:Puppet Free Library
ORGANIZER;CN="Extinction Rebellion Boston":MAILTO:outreach@xrboston.org
URL:https://xrboston.org/action/drop-in-art-build-at-the-puppet-free-libra
 ry-416/
END:VEVENT
END:VCALENDAR
