BEGIN:VCALENDAR
VERSION:2.0
PRODID:-//Extinction Rebellion Boston//Action//
BEGIN:VEVENT
SUMMARY:Drop In Art Build at the Puppet Free Library
DTSTART:20240402T210500Z
DTEND:20240402T230500Z
DTSTAMP:20260425T182209Z
UID:1772@https://xrboston.org
CREATED:20260425T182209Z
DESCRIPTION:Event details: https://xrboston.org/action/drop-in-art-build-a
 t-the-puppet-free-library-42/\n\nCome to the Puppet Free Library any time 
 between 5pm and 8pm to help make art for our upcoming Earth Day Celebratio
 n and other April events. No experience is necessary. Bring your enthusias
 ms and we will supply the materials. \n\nFeel free to wear a mask\, but th
 ey are not required. If you are feeling unwell\, please stay home and join
  us at a future art build.
LAST-MODIFIED:20240321T211137Z
LOCATION:Puppet Free Library
ORGANIZER;CN="Extinction Rebellion Boston":MAILTO:outreach@xrboston.org
URL:https://xrboston.org/action/drop-in-art-build-at-the-puppet-free-libra
 ry-42/
END:VEVENT
END:VCALENDAR
